BEGIN:VCALENDAR
VERSION:2.0
PRODID:-//jEvents 2.0 for Joomla//EN
CALSCALE:GREGORIAN
METHOD:PUBLISH
BEGIN:VTIMEZONE
TZID:Europe/Amsterdam
BEGIN:STANDARD
DTSTART:20251121T100000
RDATE:20260329T030000
TZOFFSETFROM:+0200
TZOFFSETTO:+0100
TZNAME:Europe/Amsterdam CET
END:STANDARD
BEGIN:STANDARD
DTSTART:20261025T020000
RDATE:20270328T030000
TZOFFSETFROM:+0200
TZOFFSETTO:+0100
TZNAME:Europe/Amsterdam CET
END:STANDARD
BEGIN:STANDARD
DTSTART:20271031T020000
RDATE:20280326T030000
TZOFFSETFROM:+0200
TZOFFSETTO:+0100
TZNAME:Europe/Amsterdam CET
END:STANDARD
BEGIN:STANDARD
DTSTART:20281029T020000
RDATE:20290325T030000
TZOFFSETFROM:+0200
TZOFFSETTO:+0100
TZNAME:Europe/Amsterdam CET
END:STANDARD
BEGIN:STANDARD
DTSTART:20291028T020000
RDATE:20300331T030000
TZOFFSETFROM:+0200
TZOFFSETTO:+0100
TZNAME:Europe/Amsterdam CET
END:STANDARD
BEGIN:STANDARD
DTSTART:20301027T020000
RDATE:20310330T030000
TZOFFSETFROM:+0200
TZOFFSETTO:+0100
TZNAME:Europe/Amsterdam CET
END:STANDARD
BEGIN:STANDARD
DTSTART:20311026T020000
RDATE:20320328T030000
TZOFFSETFROM:+0200
TZOFFSETTO:+0100
TZNAME:Europe/Amsterdam CET
END:STANDARD
BEGIN:DAYLIGHT
DTSTART:20260329T030000
RDATE:20261025T020000
TZOFFSETFROM:+0100
TZOFFSETTO:+0200
TZNAME:Europe/Amsterdam CEST
END:DAYLIGHT
BEGIN:DAYLIGHT
DTSTART:20270328T030000
RDATE:20271031T020000
TZOFFSETFROM:+0100
TZOFFSETTO:+0200
TZNAME:Europe/Amsterdam CEST
END:DAYLIGHT
BEGIN:DAYLIGHT
DTSTART:20280326T030000
RDATE:20281029T020000
TZOFFSETFROM:+0100
TZOFFSETTO:+0200
TZNAME:Europe/Amsterdam CEST
END:DAYLIGHT
BEGIN:DAYLIGHT
DTSTART:20290325T030000
RDATE:20291028T020000
TZOFFSETFROM:+0100
TZOFFSETTO:+0200
TZNAME:Europe/Amsterdam CEST
END:DAYLIGHT
BEGIN:DAYLIGHT
DTSTART:20300331T030000
RDATE:20301027T020000
TZOFFSETFROM:+0100
TZOFFSETTO:+0200
TZNAME:Europe/Amsterdam CEST
END:DAYLIGHT
BEGIN:DAYLIGHT
DTSTART:20310330T030000
RDATE:20311026T020000
TZOFFSETFROM:+0100
TZOFFSETTO:+0200
TZNAME:Europe/Amsterdam CEST
END:DAYLIGHT
END:VTIMEZONE
BEGIN:VEVENT
UID:558d61e2-ad78-c2fd-3627-36fef64b4909
CATEGORIES:Viering
CREATED:20251229T101224
SUMMARY:Ochtendviering: Zondag voleinding / gedachtenis overledenen
LOCATION:Grote Kerk
URL;VALUE=URI:https://pg-elst.nl/actueel/agenda/evenementdetail/7045/-/ochtendviering-zon
 dag-voleinding-gedachtenis-overledenen?tmpl=component
DESCRIPTION:<b>Datum:</b> zondag 22 november 2026<br /><b>Plaats:</b> Grote Kerk<br /><
 b>Opmerking:</b> Zondag voleinding / gedachtenis overledenen<br /><b>Voorga
 nger:</b> Ds. Jeroen Jeroense/Ds. Aafke Zaal<br /><b>Organist:</b> Dirk Lui
 jmes<br /><b>Mmv:</b> <br /><b>Liturgische kleur:</b> <a href="https://www.
 pg-elst.nl/component/content/article/kleur-in-de-kerk?catid=47&amp;Itemid=1
 01" target="_top">groen</a><br /><b>Collecte 1:</b> <br /><b>Collecte 2:</b
 > kerkelijke activiteiten<br /><b>Collecte 3:</b> Onderhoud gebouwen<br /><
 br /><div>		Na de dienst is er gelegenheid om koffie of thee te drinken in 
 <a href="https://pg-elst.nl/gebouwen/de-ruimte" target="_top">De Ruimte</a>
 .<br /></div><br /><br /> <a href="https://pg-elst.nl/actueel/agenda/evenem
 entdetail/7045/-/ochtendviering-zondag-voleinding-gedachtenis-overledenen?t
 mpl=component">This event was imported from: https://pg-elst.nl/actueel/age
 nda/evenementdetail/7045/-/ochtendviering-zondag-voleinding-gedachtenis-ove
 rledenen?tmpl=component</a>CONTACT:Ds. Jeroen Jeroense/Ds. Aafke Zaal
DTSTAMP:20260420T231434
DTSTART;TZID=Europe/Amsterdam:20261122T100000
DTEND;TZID=Europe/Amsterdam:20261122T111500
SEQUENCE:0
TRANSP:OPAQUE
END:VEVENT
END:VCALENDAR